BEGIN:VCALENDAR
VERSION:2.0
PRODID:-//WIBeN e.V. - ECPv5.15.0.1//NONSGML v1.0//EN
CALSCALE:GREGORIAN
METHOD:PUBLISH
X-WR-CALNAME:WIBeN e.V.
X-ORIGINAL-URL:https://www.wiben.de
X-WR-CALDESC:Events for WIBeN e.V.
REFRESH-INTERVAL;VALUE=DURATION:PT1H
X-Robots-Tag:noindex
X-PUBLISHED-TTL:PT1H
BEGIN:VTIMEZONE
TZID:Europe/Helsinki
BEGIN:DAYLIGHT
TZOFFSETFROM:+0200
TZOFFSETTO:+0300
TZNAME:EEST
DTSTART:20140330T010000
END:DAYLIGHT
BEGIN:STANDARD
TZOFFSETFROM:+0300
TZOFFSETTO:+0200
TZNAME:EET
DTSTART:20141026T010000
END:STANDARD
BEGIN:DAYLIGHT
TZOFFSETFROM:+0200
TZOFFSETTO:+0300
TZNAME:EEST
DTSTART:20150329T010000
END:DAYLIGHT
BEGIN:STANDARD
TZOFFSETFROM:+0300
TZOFFSETTO:+0200
TZNAME:EET
DTSTART:20151025T010000
END:STANDARD
BEGIN:DAYLIGHT
TZOFFSETFROM:+0200
TZOFFSETTO:+0300
TZNAME:EEST
DTSTART:20160327T010000
END:DAYLIGHT
BEGIN:STANDARD
TZOFFSETFROM:+0300
TZOFFSETTO:+0200
TZNAME:EET
DTSTART:20161030T010000
END:STANDARD
BEGIN:DAYLIGHT
TZOFFSETFROM:+0200
TZOFFSETTO:+0300
TZNAME:EEST
DTSTART:20170326T010000
END:DAYLIGHT
BEGIN:STANDARD
TZOFFSETFROM:+0300
TZOFFSETTO:+0200
TZNAME:EET
DTSTART:20171029T010000
END:STANDARD
BEGIN:DAYLIGHT
TZOFFSETFROM:+0200
TZOFFSETTO:+0300
TZNAME:EEST
DTSTART:20180325T010000
END:DAYLIGHT
BEGIN:STANDARD
TZOFFSETFROM:+0300
TZOFFSETTO:+0200
TZNAME:EET
DTSTART:20181028T010000
END:STANDARD
BEGIN:DAYLIGHT
TZOFFSETFROM:+0200
TZOFFSETTO:+0300
TZNAME:EEST
DTSTART:20190331T010000
END:DAYLIGHT
BEGIN:STANDARD
TZOFFSETFROM:+0300
TZOFFSETTO:+0200
TZNAME:EET
DTSTART:20191027T010000
END:STANDARD
BEGIN:DAYLIGHT
TZOFFSETFROM:+0200
TZOFFSETTO:+0300
TZNAME:EEST
DTSTART:20200329T010000
END:DAYLIGHT
BEGIN:STANDARD
TZOFFSETFROM:+0300
TZOFFSETTO:+0200
TZNAME:EET
DTSTART:20201025T010000
END:STANDARD
END:VTIMEZONE
BEGIN:VEVENT
DTSTART;TZID=Europe/Helsinki:20140207T170000
DTEND;TZID=Europe/Helsinki:20140207T190000
DTSTAMP:20260421T131730
CREATED:20140201T135448Z
LAST-MODIFIED:20140201T135448Z
UID:3273-1391792400-1391799600@www.wiben.de
SUMMARY:Eröffnung Regionalladen
DESCRIPTION:Anzeige_unikum_Web
URL:https://www.wiben.de/event/eroeffnung-regionalladen/
LOCATION:UNIKUM Regionalladen\, Bahnhofstr. 26\, Altenkirchen\, 57610\, Deutschland
END:VEVENT
BEGIN:VEVENT
DTSTART;TZID=Europe/Helsinki:20140319T200000
DTEND;TZID=Europe/Helsinki:20140319T220000
DTSTAMP:20260421T131730
CREATED:20131222T064313Z
LAST-MODIFIED:20140219T184638Z
UID:3235-1395259200-1395266400@www.wiben.de
SUMMARY:Landräuber\, Brotvernichter\, Essensfälscher\, Spekulanten
DESCRIPTION:Landräuber\, Brotvernichter\, Essensfälscher\, Spekulanten\nWo geht es hin mit unserem täglich Brot? \nReferent: Joachim Türk\,  Journalist und Lehrbeauftragter der FH Köln \nDie weltweite Nahrungsindustrie bringt zahlreiche Typen hervor\, vom Ökobauern zum Gensaat-Monopolisten. Am Ende steht der Konsument: Die Deutschen erleben steigende Lebensmittelpreise und Unsicherheit. Als Kunden bewegen wir uns zwischen Fertiggericht und veganer Kost\, Kochsendung und Dauer-Diät\, Tank und Teller. \nIn seinem Vortrag liefert Joachim Türk\, Ex-Chefredakteur der Rhein-Zeitung\, Journalist und Lehrbeauftragter der FH Köln\, Zündstoff. Er erklärt anschaulich\, wohin sich die Agrar- und Essensindustrie entwickelt\, wie Lebensmittel teurer\, aber nicht unbedingt besser werden\, warum so viel Essen im Müll landet – und fast eine Milliarde Menschen hungern. Seit Jahren beschäftigt sich Joachim Türk mit Themen an den Schnittstellen von Umwelt und Wirtschaft – etwa beim Klimawandel und der Energiewende (Blog: www.oekonologie.de). Die Frage\, ob unsere Welt all ihre Bewohner ernähren kann\, hat es ihm besonders angetan. Bei seinen Recherchen stieß er auf ein äußerst kompliziertes Geflecht von Agrarindustrie\, Investoren\, Handelsgiganten\, politischen Interessen und – natürlich – Kundenwünschen. \nKooperationsveranstaltung: Haus Felsenkeller e.V.\, Heinrich Böll Stiftung Rheinland-Pfalz\, UNIKUM Regionalladen\, Evangelische Landjugendakademie und WIBeN e.V. \nUm Anmeldung wird gebeten\nBildungsbüro Haus Felsenkeller Tel.: 02681 98 64 12
URL:https://www.wiben.de/event/landraeuber-brotvernichter-essensfaelscher-spekulanten/
LOCATION:UNIKUM Regionalladen\, Bahnhofstr. 26\, Altenkirchen\, 57610\, Deutschland
CATEGORIES:Informationsveranstaltung
ORGANIZER;CN="Haus%20Felsenkeller%20e.V.":MAILTO:zentrale@haus-felsenkeller.de
END:VEVENT
BEGIN:VEVENT
DTSTART;TZID=Europe/Helsinki:20141008T200000
DTEND;TZID=Europe/Helsinki:20141008T220000
DTSTAMP:20260421T131730
CREATED:20141006T084819Z
LAST-MODIFIED:20141006T084819Z
UID:3576-1412798400-1412805600@www.wiben.de
SUMMARY:WIBeN-Stammtisch am 8.10.2014 um 20.00 Uhr im UNIKUM
DESCRIPTION:Liebe WIBeN`s\, \nam Mittwoch den 8.10. um 20.00 Uhr lädt euch der Vorstand des „Fördervereins für nachhaltiges regionales Wirtschaften“ zusammen mit den Mitgliedern der Regionalentwicklungsgruppe aus WIBeN (Axel-Gerda-Margret) ganz herzlich zum WIBeN-Stammtisch im nunmehr seit über 1/2 Jahr bestehenden Regionalladen Unikum ein.\n1/2 Jahr Erfahrung mit diesem Projekt und wir sind froh und stolz\, dass es so gut angenommen wird!\nGerne zeigen wir euch vor Ort\, was sich alles im Laden findet – und wo und wie es vielleicht auch für euch Möglichkeiten gibt\, euren Betrieb zu präsentieren.\nIch möchte Euch nochmal bitten uns am besten heute noch kurz Bescheid zu geben mit wie vielen Personen ihr kommt\, einfach nur um wenigstens grob eine Verpflegung planen zu können!!!\nDenn für eine kleine Verköstigung sorgen wir gerne….!
URL:https://www.wiben.de/event/wiben-stammtisch-am-8-10-2014-um-20-00-uhr-im-unikum/
LOCATION:UNIKUM Regionalladen\, Bahnhofstr. 26\, Altenkirchen\, 57610\, Deutschland
END:VEVENT
BEGIN:VEVENT
DTSTART;TZID=Europe/Helsinki:20141009T200000
DTEND;TZID=Europe/Helsinki:20141009T220000
DTSTAMP:20260421T131730
CREATED:20140721T075415Z
LAST-MODIFIED:20140721T075415Z
UID:3505-1412884800-1412892000@www.wiben.de
SUMMARY:"Harald Welzer: Selbst Denken" - Andreas Pecht über eine Anleitung zum Widerstand
DESCRIPTION:Wie ist uns eigentlich die Zukunft abhanden gekommen? Was war noch mal die Frage\, auf die Fortschritt und Wachstum eine Antwort sein sollten? Und: Wie kann aus der Zukunft wieder ein Versprechen werden statt einer Bedrohung? Harald Welzers Buch gibt Antworten auf diese Fragen. Es lotet die Abgründe des erdrückenden Konsumwahns und politischen Illusionstheaters aus und zeigt\, wie viele konkrete und attraktive Möglichkeiten zum widerständigen und guten Leben es gibt. Die ersten Schritte sind ganz einfach: sich endlich wieder ernst nehmen\, selbst denken\, selbst handeln. Der Kulturjournalist Andreas Pecht stellt Welzers Buch vor und referiert über einen der konsequentesten Vordenker unserer Zeit auf dem Weg zu einer wünschenswerten Zukunft. \nKooperationsveranstaltung \nEv. Landjugendakademie Altenkirchen\, WIBeN e.V.\, Unikum – der Regionalladen und Heinrich Böll Stiftung RLP \n 
URL:https://www.wiben.de/event/harald-welzer-selbst-denken-andreas-pecht-ueber-eine-anleitung-zum-widerstand/
LOCATION:UNIKUM Regionalladen\, Bahnhofstr. 26\, Altenkirchen\, 57610\, Deutschland
END:VEVENT
BEGIN:VEVENT
DTSTART;TZID=Europe/Helsinki:20150312T200000
DTEND;TZID=Europe/Helsinki:20150312T220000
DTSTAMP:20260421T131730
CREATED:20150224T104551Z
LAST-MODIFIED:20150224T104551Z
UID:3790-1426190400-1426197600@www.wiben.de
SUMMARY:Zukunft: Regionalwirtschaft?! – WIBeN-Stammtisch/Infoveranstaltung im UNIKUM am 12.3.15 um 20:00 Uhr
DESCRIPTION:
URL:https://www.wiben.de/event/zukunft-regionalwirtschaft-wiben-stammtischinfoveranstaltung-im-unikum-am-12-3-15-um-2000-uhr/
LOCATION:UNIKUM Regionalladen\, Bahnhofstr. 26\, Altenkirchen\, 57610\, Deutschland
END:VEVENT
BEGIN:VEVENT
DTSTART;TZID=Europe/Helsinki:20150417T200000
DTEND;TZID=Europe/Helsinki:20150417T220000
DTSTAMP:20260421T131730
CREATED:20150331T100405Z
LAST-MODIFIED:20150331T100405Z
UID:3835-1429300800-1429308000@www.wiben.de
SUMMARY:TTIP - Geheime Pläne und die Folgen
DESCRIPTION:
URL:https://www.wiben.de/event/ttip-geheime-plaene-und-die-folgen/
LOCATION:UNIKUM Regionalladen\, Bahnhofstr. 26\, Altenkirchen\, 57610\, Deutschland
END:VEVENT
BEGIN:VEVENT
DTSTART;TZID=Europe/Helsinki:20150506T200000
DTEND;TZID=Europe/Helsinki:20150506T220000
DTSTAMP:20260421T131730
CREATED:20150427T083649Z
LAST-MODIFIED:20150427T083649Z
UID:3855-1430942400-1430949600@www.wiben.de
SUMMARY:"Die Macht des Verbrauchers"
DESCRIPTION:
URL:https://www.wiben.de/event/die-macht-des-verbrauchers/
LOCATION:UNIKUM Regionalladen\, Bahnhofstr. 26\, Altenkirchen\, 57610\, Deutschland
END:VEVENT
BEGIN:VEVENT
DTSTART;TZID=Europe/Helsinki:20150917T200000
DTEND;TZID=Europe/Helsinki:20150917T220000
DTSTAMP:20260421T131730
CREATED:20150818T093902Z
LAST-MODIFIED:20150818T093955Z
UID:3932-1442520000-1442527200@www.wiben.de
SUMMARY:Wir fangen schon mal an mit dem Postwachstumsleben
DESCRIPTION:Wir fangen schon mal an mit dem Postwachstumsleben\n100 Tipps von Andreas Pecht \nNatürlich schwingen auch bei dieser Veranstaltung die großen Fragen des Diskurses um Wachstumswahn und Postwachstums-Gesellschaft mit. Im Zentrum stehen diesmal aber ganz praktische Anregungen für ökologisch vernünftige Verhaltensansätze im Privatleben. Ob in Küche und Bad\, ob beim Wäschewaschen oder Einkaufen\, ob bei Heizung\, Strom oder Auto: Das größte Potenzial zu Energieeinsparung und Ressourcenschonung jedes Einzelnen liegt in der Veränderung von Alltagsgewohnheiten. Niemand muss dafür gleich zum radikalen Konsumverweigerer werden. Jeder kann sein eigenes Tempo beim Einstieg in den Ausstieg aus dem Wachstums-Irrsinn bestimmen. Journalist Andreas Pecht hat über Jahre aus Buchlektüren\, Gesprächen\, Recherchen und eigenen Erfahrungen unzählige simple\, alltagstaugliche Anregungen für Umgewöhnungen in Richtung „weniger kaufen und verbrauchen\, dafür intensiver und selbstbestimmter leben” gesammelt. Sprechen wird er an diesem Abend über niederschwellige Umstiegsmöglichkeiten von großen zu kleineren Übeln sowie von kleineren Übeln zu fast idealen Lösungen. Mal sind’s winzige\, aber doch schwierige Umgewöhnungsschritte wie Licht-aus und Heizung-runter in unbenutzten Räumen oder Verzicht auf überseeische Konsumgüter. Mal sind’s Umstellungen der Lebenskultur: weg vom Auto\, hin zu Bus\, Bahn\, Rad; reparieren (lassen)\, statt neu kaufen; mehr häusliche Handarbeit\, weniger Elektrogeräteeinsatz; öfter waschen\, seltener duschen/baden; Gefriertruhe mit Nachbarn gemeinsam nutzen; weniger Mobilität\, mehr Muse…    Der Witz daran ist: Ein paar Dutzend kleine dauerhafte Umgewöhnungen erbringen mehr ökologischen Nutzeffekt und teils auch mehr echte Lebensfreude als tausende Euro für die Neuanschaffung „grüner” Technik. Keine von Pechts Anregungen ist revolutionär neu\, die meisten sind bekannt und etliche über Generationen erprobt – aber vergessen\, verpönt\, aus der Mode gekommen\, der Gedankenlosigkeit oder Bequemlichkeit zum Opfer gefallen.
URL:https://www.wiben.de/event/wir-fangen-schon-mal-an-mit-dem-postwachstumsleben/
LOCATION:UNIKUM Regionalladen\, Bahnhofstr. 26\, Altenkirchen\, 57610\, Deutschland
END:VEVENT
BEGIN:VEVENT
DTSTART;TZID=Europe/Helsinki:20160317T200000
DTEND;TZID=Europe/Helsinki:20160317T220000
DTSTAMP:20260421T131730
CREATED:20160111T083548Z
LAST-MODIFIED:20160303T084132Z
UID:4033-1458244800-1458252000@www.wiben.de
SUMMARY:Solidarisches Wirtschaften: Was ist das und wie funktioniert das?
DESCRIPTION:
URL:https://www.wiben.de/event/solidarisches-wirtschaften-was-ist-das-und-wie-funktioniert-das/
LOCATION:UNIKUM Regionalladen\, Bahnhofstr. 26\, Altenkirchen\, 57610\, Deutschland
END:VEVENT
BEGIN:VEVENT
DTSTART;TZID=Europe/Helsinki:20160916T200000
DTEND;TZID=Europe/Helsinki:20160916T220000
DTSTAMP:20260421T131730
CREATED:20160905T085303Z
LAST-MODIFIED:20160905T085303Z
UID:4208-1474056000-1474063200@www.wiben.de
SUMMARY:Kleidung und unser Umgang damit
DESCRIPTION:
URL:https://www.wiben.de/event/kleidung-und-unser-umgang-damit/
LOCATION:UNIKUM Regionalladen\, Bahnhofstr. 26\, Altenkirchen\, 57610\, Deutschland
END:VEVENT
BEGIN:VEVENT
DTSTART;TZID=Europe/Helsinki:20170207T140000
DTEND;TZID=Europe/Helsinki:20170207T180000
DTSTAMP:20260421T131730
CREATED:20161219T141141Z
LAST-MODIFIED:20161219T141507Z
UID:4327-1486476000-1486490400@www.wiben.de
SUMMARY:3 Jahre UNIKUM - Der Regionalladen
DESCRIPTION:nähere Infos folgen
URL:https://www.wiben.de/event/3-jahre-unikum-der-regionalladen/
LOCATION:UNIKUM Regionalladen\, Bahnhofstr. 26\, Altenkirchen\, 57610\, Deutschland
END:VEVENT
BEGIN:VEVENT
DTSTART;TZID=Europe/Helsinki:20170210T200000
DTEND;TZID=Europe/Helsinki:20170210T220000
DTSTAMP:20260421T131730
CREATED:20170122T132545Z
LAST-MODIFIED:20170122T132545Z
UID:4358-1486756800-1486764000@www.wiben.de
SUMMARY:Infoveranstaltung: Stärkung der regionalen Wirtschaftskreisläufe
DESCRIPTION:
URL:https://www.wiben.de/event/infoveranstaltung-staerkung-der-regionalen-wirtschaftskreislaeufe/
LOCATION:UNIKUM Regionalladen\, Bahnhofstr. 26\, Altenkirchen\, 57610\, Deutschland
END:VEVENT
BEGIN:VEVENT
DTSTART;TZID=Europe/Helsinki:20180322T200000
DTEND;TZID=Europe/Helsinki:20180322T220000
DTSTAMP:20260421T131730
CREATED:20180109T091217Z
LAST-MODIFIED:20180109T091217Z
UID:4541-1521748800-1521756000@www.wiben.de
SUMMARY:Infoveranstaltung
DESCRIPTION:Wirtschaftsförderung 4.0 | Möglichkeiten kooperativer Wirtschaftsformen in Kommunen \nDonnerstag\, 22.03.\, 20 – 22 Uhr\n \nDr. Michael Kopatz \nSozialwissenschaftler und wiss. Projektleiter in der Forschungsgruppe Energie-\, Verkehrs- und Klimapolitik in Wuppertal \nModerne Ansätze der Gemeinwohlökonomie gibt es schon seit Jahren. Viele Menschen suchen nach Tätigkeiten\, die vor Ort wirksam sind und einen unmittelbaren Bezug zur eigenen Lebenswelt haben. Regionalgeld\, Tauschringe\, Repair Cafés\, Tauschläden\, Soziale Kaufhäuser\, Leihsysteme\, Stadtgärten\, Solidarische Landwirtschaft – das alles hat Konjunktur. Gezielte kommunale Förderkonzepte\, etwa im Rahmen der Wirtschaftsförderung\, gibt es hingegen nicht. Dabei sind hier erhebliche gesellschaftliche Potenziale zu heben. Es entwickeln sich neue\, ökonomische Strukturen\, die dem allseits geforderten lokalen Handlungsanspruch mit globalen Absichten ganz im Sinne der Nachhaltigkeit\, nachkommen. Die Zeit ist reif\, ein Handlungskonzept zur systematischen Förderung von kooperativen Wirtschaftsformen in  Kommunen zu entwickeln. Es wird hier als „Wirtschaftsförderung 4.0“ bezeichnet. \nVeranstaltungsort: UNIKUM Regionalladen\, Bahnhofstr. 26\, 57610 Altenkirchen \nKooperationsveranstaltung: \nFörderverein für nachhaltiges regionales Wirtschaften e.V.\, Heinrich Böll Stiftung RLP
URL:https://www.wiben.de/event/infoveranstaltung/
LOCATION:UNIKUM Regionalladen\, Bahnhofstr. 26\, Altenkirchen\, 57610\, Deutschland
END:VEVENT
BEGIN:VEVENT
DTSTART;TZID=Europe/Helsinki:20180419T200000
DTEND;TZID=Europe/Helsinki:20180419T220000
DTSTAMP:20260421T131730
CREATED:20180317T144624Z
LAST-MODIFIED:20180317T144624Z
UID:4629-1524168000-1524175200@www.wiben.de
SUMMARY:Infoveranstaltung "Die Zukunft des Sozialstaates"
DESCRIPTION:
URL:https://www.wiben.de/event/infoveranstaltung-die-zukunft-des-sozialstaates/
LOCATION:UNIKUM Regionalladen\, Bahnhofstr. 26\, Altenkirchen\, 57610\, Deutschland
END:VEVENT
BEGIN:VEVENT
DTSTART;TZID=Europe/Helsinki:20180419T200000
DTEND;TZID=Europe/Helsinki:20180419T220000
DTSTAMP:20260421T131730
CREATED:20180109T091349Z
LAST-MODIFIED:20180109T091349Z
UID:4543-1524168000-1524175200@www.wiben.de
SUMMARY:Infoverantaltung
DESCRIPTION:Die Zukunft des Sozialstaates\n \nDonnerstag\, 19.04.\, 20 – 22 Uhr \nMichael Opielka \nSozialwissenschaftler\, Prof. für Sozialpolitik und Geschäftsführer des Institut für Sozialökologie \nDer Sozialstaat steht vor großen Herausforderungen: Demografische und kulturelle Veränderungen\, digitalisierte Arbeitswelt und die Auflösung der traditionellen Familienverhältnisse bringen Reformbedarf mit sich. Aus diesem Szenario heraus entwirft Michael Opielka Lösungen für eine Sozialpolitik des 21. Jahrhunderts\, die einem Programm „Sozialer Nachhaltigkeit“ verpflichtet ist. \nEr diskutiert die Idee des Grundeinkommens im Lichte unterschiedlicher Gerechtigkeitsprinzipien und Wohlfahrtsregime und zeigt die Rolle der Sozialen Arbeit und die Bedeutung von Partizipation bei der künftigen Gestaltung des Sozialstaats auf. \nLassen Sie sich informieren\, inspirieren und diskutieren Sie mit\, wie unsere Zukunft sozial sein kann und soll. \nVeranstaltungsort: UNIKUM Regionalladen\, Bahnhofstr. 26\, 57610 Altenkirchen \nKooperationsveranstaltung: \nFörderverein für nachhaltiges regionales Wirtschaften e.V.\, Westerwälder Initiativen- und Betriebenetz e.V.\, Heinrich Böll Stiftung RLP
URL:https://www.wiben.de/event/infoverantaltung/
LOCATION:UNIKUM Regionalladen\, Bahnhofstr. 26\, Altenkirchen\, 57610\, Deutschland
END:VEVENT
BEGIN:VEVENT
DTSTART;TZID=Europe/Helsinki:20180525T200000
DTEND;TZID=Europe/Helsinki:20180525T220000
DTSTAMP:20260421T131730
CREATED:20180109T091534Z
LAST-MODIFIED:20180109T091534Z
UID:4545-1527278400-1527285600@www.wiben.de
SUMMARY:Infoveranstaltung
DESCRIPTION:Das bedingungslose Grundeinkommen – Utopie oder doch Zukunft? \nFreitag\, 25.05.\, 20 – 22 Uhr \nRoland Blaschke \nAutor und Mitbegründer des Netzwerks Grundeinkommen sowie des europäischen Netzwerks UBIE \nDas bedingungslose Grundeinkommen bedeutet Geld für alle – als Menschenrecht ohne Gegenleistung! Handelt es sich um ein visionäres Reformprojekt oder um eine sozialromantische linke Utopie? \nSeit vielen Jahren gibt es eine Diskussion um ein bedingungsloses Grundeinkommen\, geführt von Nichtregierungsorganisationen und namhaften Persönlichkeiten\, auch in Parteien. Sogar führende Manager in der Wirtschaft äußerten sich kürzlich positiv dazu. In Kenia finanziert eine US-amerikanische Wohlfahrtsorganisation eine Feldstudie. Auch auf deutschen Wahlzetteln ist das bedingungslose Grundeinkommen neuerdings zu finden. \nWas also hat es auf sich mit dem bedingungslosen Grundeinkommen? Gibt es eine oder mehrere Formen? Was steckt dahinter und welche Auswirkungen hat das auf unser zukünftiges Leben und die Arbeitswelt? \nAn diesem Abend wird uns Ronald Blaschke vom Netzwerk Grundeinkommen über die Entstehung und Entwicklung der Idee des Grundeinkommens berichten. Er wird philosophische Zusammenhänge\, arbeitsmarkt- und sozialpolitische und persönliche Auswirkungen in den Blick nehmen und auch die Finanzierbarkeit thematisieren. \nKooperationsveranstaltung: \nFörderverein für nachhaltiges regionales Wirtschaften e.V.\, Westerwälder Initiativen- und Betriebenetz e.V.\, Heinrich Böll Stiftung RLP \nVeranstaltungsort:  \nUNIKUM Regionalladen\, Bahnhofstr. 26\, 57610 Altenkirchen
URL:https://www.wiben.de/event/infoveranstaltung-2/
LOCATION:UNIKUM Regionalladen\, Bahnhofstr. 26\, Altenkirchen\, 57610\, Deutschland
END:VEVENT
BEGIN:VEVENT
DTSTART;TZID=Europe/Helsinki:20190321T200000
DTEND;TZID=Europe/Helsinki:20190321T220000
DTSTAMP:20260421T131730
CREATED:20190211T155131Z
LAST-MODIFIED:20190211T155131Z
UID:5026-1553198400-1553205600@www.wiben.de
SUMMARY:Info-Veranstaltung Cradle to Cradle
DESCRIPTION:
URL:https://www.wiben.de/event/info-veranstaltung-cradle-to-cradle/
LOCATION:UNIKUM Regionalladen\, Bahnhofstr. 26\, Altenkirchen\, 57610\, Deutschland
END:VEVENT
BEGIN:VEVENT
DTSTART;TZID=Europe/Helsinki:20190830T190000
DTEND;TZID=Europe/Helsinki:20190830T210000
DTSTAMP:20260421T131730
CREATED:20190817T110112Z
LAST-MODIFIED:20190817T110112Z
UID:5231-1567191600-1567198800@www.wiben.de
SUMMARY:Tomaten kennenlernen und verkosten
DESCRIPTION:
URL:https://www.wiben.de/event/tomaten-kennenlernen-und-verkosten/
LOCATION:UNIKUM Regionalladen\, Bahnhofstr. 26\, Altenkirchen\, 57610\, Deutschland
END:VEVENT
BEGIN:VEVENT
DTSTART;TZID=Europe/Helsinki:20191011T190000
DTEND;TZID=Europe/Helsinki:20191011T210000
DTSTAMP:20260421T131730
CREATED:20190924T084216Z
LAST-MODIFIED:20190924T084216Z
UID:5264-1570820400-1570827600@www.wiben.de
SUMMARY:Die Humusrevolution
DESCRIPTION:
URL:https://www.wiben.de/event/die-humusrevolution/
LOCATION:UNIKUM Regionalladen\, Bahnhofstr. 26\, Altenkirchen\, 57610\, Deutschland
END:VEVENT
BEGIN:VEVENT
DTSTART;TZID=Europe/Helsinki:20200130T200000
DTEND;TZID=Europe/Helsinki:20200130T220000
DTSTAMP:20260421T131730
CREATED:20200114T184945Z
LAST-MODIFIED:20200114T184945Z
UID:5333-1580414400-1580421600@www.wiben.de
SUMMARY:Info-Abend: Lichtverschmutzung
DESCRIPTION:
URL:https://www.wiben.de/event/info-abend-lichtverschmutzung/
LOCATION:UNIKUM Regionalladen\, Bahnhofstr. 26\, Altenkirchen\, 57610\, Deutschland
END:VEVENT
END:VCALENDAR