BEGIN:VCALENDAR
VERSION:2.0
PRODID:-//WIBeN e.V. - ECPv5.15.0.1//NONSGML v1.0//EN
CALSCALE:GREGORIAN
METHOD:PUBLISH
X-WR-CALNAME:WIBeN e.V.
X-ORIGINAL-URL:https://www.wiben.de
X-WR-CALDESC:Events for WIBeN e.V.
REFRESH-INTERVAL;VALUE=DURATION:PT1H
X-Robots-Tag:noindex
X-PUBLISHED-TTL:PT1H
BEGIN:VTIMEZONE
TZID:Europe/Helsinki
BEGIN:DAYLIGHT
TZOFFSETFROM:+0200
TZOFFSETTO:+0300
TZNAME:EEST
DTSTART:20160327T010000
END:DAYLIGHT
BEGIN:STANDARD
TZOFFSETFROM:+0300
TZOFFSETTO:+0200
TZNAME:EET
DTSTART:20161030T010000
END:STANDARD
END:VTIMEZONE
BEGIN:VEVENT
DTSTART;TZID=Europe/Helsinki:20160810T200000
DTEND;TZID=Europe/Helsinki:20160810T220000
DTSTAMP:20260420T135628
CREATED:20160613T100240Z
LAST-MODIFIED:20160613T100240Z
UID:4153-1470859200-1470866400@www.wiben.de
SUMMARY:WIBeN-Stammtisch
DESCRIPTION:Der August-Stammtisch wird auf dem Bauernhof von Hannes und Marion Schochow in Kescheid stattfinden. Möglicherweise mit kurzem Ausflug zu neuen Betrieb von Georg und Anna
URL:https://www.wiben.de/event/wiben-stammtisch-9/
LOCATION:Naturland-Hof Kescheid\, Hauptstr. 38\, Kescheid\, 57632
GEO:50.66254;7.48409
X-APPLE-STRUCTURED-LOCATION;VALUE=URI;X-ADDRESS=Naturland-Hof Kescheid Hauptstr. 38 Kescheid 57632;X-APPLE-RADIUS=500;X-TITLE=Hauptstr. 38:geo:7.48409,50.66254
END:VEVENT
END:VCALENDAR