BEGIN:VCALENDAR
VERSION:2.0
PRODID:-//WIBeN e.V. - ECPv5.15.0.1//NONSGML v1.0//EN
CALSCALE:GREGORIAN
METHOD:PUBLISH
X-WR-CALNAME:WIBeN e.V.
X-ORIGINAL-URL:https://www.wiben.de
X-WR-CALDESC:Events for WIBeN e.V.
REFRESH-INTERVAL;VALUE=DURATION:PT1H
X-Robots-Tag:noindex
X-PUBLISHED-TTL:PT1H
BEGIN:VTIMEZONE
TZID:Europe/Helsinki
BEGIN:DAYLIGHT
TZOFFSETFROM:+0200
TZOFFSETTO:+0300
TZNAME:EEST
DTSTART:20130331T010000
END:DAYLIGHT
BEGIN:STANDARD
TZOFFSETFROM:+0300
TZOFFSETTO:+0200
TZNAME:EET
DTSTART:20131027T010000
END:STANDARD
BEGIN:DAYLIGHT
TZOFFSETFROM:+0200
TZOFFSETTO:+0300
TZNAME:EEST
DTSTART:20140330T010000
END:DAYLIGHT
BEGIN:STANDARD
TZOFFSETFROM:+0300
TZOFFSETTO:+0200
TZNAME:EET
DTSTART:20141026T010000
END:STANDARD
END:VTIMEZONE
BEGIN:VEVENT
DTSTART;TZID=Europe/Helsinki:20131113T200000
DTEND;TZID=Europe/Helsinki:20131113T220000
DTSTAMP:20260419T185045
CREATED:20131101T180538Z
LAST-MODIFIED:20131101T180538Z
UID:3210-1384372800-1384380000@www.wiben.de
SUMMARY:WIBeN Stammtisch "Wie wollen wir leben im Alter "
DESCRIPTION:Das erste Treffen zu diesem Thema ist lange her – besichtigt haben\nwir leider bisher keine Einrichtung.\nZur Info kommt ebenfalls keiner von dem Kölner Verein „Anders Leben im\nAlter“ worum ich mich bemüht hatte. Derzeit bin ich noch dabei jemand\neinzuladen\, die uns zu dem Generationenwohnprojekt was in Weyerbusch\ngeplant ist was erzählen könnte. Aber wir telefonieren immer aneinander\nvorbei…..\nIch hoffe es klappt noch. Ansonsten habe ich – vielleicht ja auch noch\njemand anderes – verschiedenes Material gesammelt über unterschiedliche\nWohnformen. Also wir treffen uns mit allen Interessierten in jedem Fall\nam Mittwoch den 13.11. in der Jugendkunstschule – können sie bei der\nGelegenheit gleich mal kennenlernen.\nwir – die Arbeitsgruppe – freuen uns auf zahlreiche TeilnehmerInnen. \nIn diesem Sinn\nHerzlichen Gruß\nMargret
URL:https://www.wiben.de/event/wiben-stammtisch-wie-wollen-wir-leben-im-alter/
LOCATION:Jugendkunstschule\, Koblenzer Str. 5\, Altenkirchen\, 57610\, Deutschland
CATEGORIES:Stammtisch
ORGANIZER;CN="WIBeN%20e.V.":MAILTO:geschaeftsstelle@wiben.de
GEO:50.685708;7.6414305
X-APPLE-STRUCTURED-LOCATION;VALUE=URI;X-ADDRESS=Jugendkunstschule Koblenzer Str. 5 Altenkirchen 57610 Deutschland;X-APPLE-RADIUS=500;X-TITLE=Koblenzer Str. 5:geo:7.6414305,50.685708
END:VEVENT
BEGIN:VEVENT
DTSTART;TZID=Europe/Helsinki:20140312T200000
DTEND;TZID=Europe/Helsinki:20140312T220000
DTSTAMP:20260419T185045
CREATED:20140220T095040Z
LAST-MODIFIED:20140220T095040Z
UID:3315-1394654400-1394661600@www.wiben.de
SUMMARY:WIBeN-Stammtisch "WIBeN macht Stühle"
DESCRIPTION:Die Idee\, denMärz-Stammtisch in der Jugendkunstschule stattfinden zu lassen und mal etwas „ganz anderes“ zu machen\, kam uns auf dem WIBeN-Wochenende.\nDass Altenkirchen in diesem Jahr 700 Jahre Bestehen feiert ist kein Geheimnis\, und dass die Jugendkunstschule dies als Anlass nimmt ein eigenes Projekt auf die Beine zu stellen auch nicht.\n700 Stühle für 700 Jahre AK!!!\nNun möchte sich auch WIBeN daran beteiligen.\nJeder Betrieb kann am 12. März ab 20.00 Uhr seinen ganz persönlichen Stuhl in der Jugendkunstschule kreieren.\nKommt und wir basteln alle gemeinsam!!! \nNährere Infos werden an die Mitglieder noch per Email verschickt. Bei weiteren Fragen bitte an Mail wenden
URL:https://www.wiben.de/event/wiben-stammtisch-wiben-macht-stuehle/
LOCATION:Jugendkunstschule\, Koblenzer Str. 5\, Altenkirchen\, 57610\, Deutschland
GEO:50.685708;7.6414305
X-APPLE-STRUCTURED-LOCATION;VALUE=URI;X-ADDRESS=Jugendkunstschule Koblenzer Str. 5 Altenkirchen 57610 Deutschland;X-APPLE-RADIUS=500;X-TITLE=Koblenzer Str. 5:geo:7.6414305,50.685708
END:VEVENT
END:VCALENDAR