BEGIN:VCALENDAR
VERSION:2.0
PRODID:-//WIBeN e.V. - ECPv5.15.0.1//NONSGML v1.0//EN
CALSCALE:GREGORIAN
METHOD:PUBLISH
X-WR-CALNAME:WIBeN e.V.
X-ORIGINAL-URL:https://www.wiben.de
X-WR-CALDESC:Events for WIBeN e.V.
REFRESH-INTERVAL;VALUE=DURATION:PT1H
X-Robots-Tag:noindex
X-PUBLISHED-TTL:PT1H
BEGIN:VTIMEZONE
TZID:Europe/Helsinki
BEGIN:DAYLIGHT
TZOFFSETFROM:+0200
TZOFFSETTO:+0300
TZNAME:EEST
DTSTART:20120325T010000
END:DAYLIGHT
BEGIN:STANDARD
TZOFFSETFROM:+0300
TZOFFSETTO:+0200
TZNAME:EET
DTSTART:20121028T010000
END:STANDARD
BEGIN:DAYLIGHT
TZOFFSETFROM:+0200
TZOFFSETTO:+0300
TZNAME:EEST
DTSTART:20130331T010000
END:DAYLIGHT
BEGIN:STANDARD
TZOFFSETFROM:+0300
TZOFFSETTO:+0200
TZNAME:EET
DTSTART:20131027T010000
END:STANDARD
END:VTIMEZONE
BEGIN:VEVENT
DTSTART;TZID=Europe/Helsinki:20130125T190000
DTEND;TZID=Europe/Helsinki:20130125T230000
DTSTAMP:20260421T125845
CREATED:20130119T172148Z
LAST-MODIFIED:20130119T172256Z
UID:2181-1359140400-1359154800@www.wiben.de
SUMMARY:Freitags Menü
DESCRIPTION:Speisekarte für den 25.01.2013\n\n\n\nVORSPEISENLauwarmer Linsensalat auf Bruschetta mit gratiniertem Ziegenkäse\n8\,90 Euro \n\n\nPastinaken-Cremesüppchen mit Leberwurstnocken im Speckmantel\n5\,50 Euro\n\nJacobsmuschel auf Saubohnenmus im Sieben-Kräuter-Rahm\n9\,90 EuroHAUPTSPEISEN \nHausgemachte Pasta\, gefüllt mit Leberwurst und Marzipan in einer Urtrüb-Sahne-Sauce\, \n\ndazu Parmesan und Fichtennadel-Gelee\n13\,90  Euro (Vegetarische Variante möglich)\n\nKurzgebratener Lammrücken auf Rosenkohlpüree\, dazu hausgemachte Schupfnudeln\n22\,90 Euro\n\nMaishähnchen-Keule\, gegart in Portwein-Cassis-Sauce\ndazu Gnocchi und Rahmwirsing\n19\,50 EuroDESSERT \nRotweinbirne mit  Vanilleschaum und Mohneis\n6\,50 Euro \n\n\n\n\n\nReservierung erwünscht unter: 02682-67667
URL:https://www.wiben.de/event/freitags-menu/
LOCATION:Heinzelmännchen\, Obersalterberger Hof 1\, Marienthal\, 57632
GEO:50.7375242;7.6756696
X-APPLE-STRUCTURED-LOCATION;VALUE=URI;X-ADDRESS=Heinzelmännchen Obersalterberger Hof 1 Marienthal 57632;X-APPLE-RADIUS=500;X-TITLE=Obersalterberger Hof 1:geo:7.6756696,50.7375242
END:VEVENT
BEGIN:VEVENT
DTSTART;TZID=Europe/Helsinki:20130113T123000
DTEND;TZID=Europe/Helsinki:20130113T170000
DTSTAMP:20260421T125845
CREATED:20130106T094635Z
LAST-MODIFIED:20130106T094635Z
UID:2081-1358080200-1358096400@www.wiben.de
SUMMARY:Sonntags Mittagsessen am 13.01.2013 bei den Heinzelmännchen
DESCRIPTION:Sonntags-Mittagessen am 13.01.2013 bei den Heinzelmännchen ab 12.30 Uhr \nDas Menü \nRinderkraftbrühe \nRheinischer Sauerbraten mit rohen Klößen\, Rotkohl und Apfelmus \nVanilleeis mit heißen Himbeeren \nPreis: 22\,00 Euro/Person \nWir freuen uns auf Ihren Besuch und bitten um Reservierung unter: Mail / 02662-5079571 oder Mail / 02682-67667
URL:https://www.wiben.de/event/sonntags-mittagsessen-am-13-01-2013-bei-den-heinzelmannchen/
LOCATION:Heinzelmännchen\, Obersalterberger Hof 1\, Marienthal\, 57632
GEO:50.7375242;7.6756696
X-APPLE-STRUCTURED-LOCATION;VALUE=URI;X-ADDRESS=Heinzelmännchen Obersalterberger Hof 1 Marienthal 57632;X-APPLE-RADIUS=500;X-TITLE=Obersalterberger Hof 1:geo:7.6756696,50.7375242
END:VEVENT
BEGIN:VEVENT
DTSTART;TZID=Europe/Helsinki:20121231T180000
DTEND;TZID=Europe/Helsinki:20121231T230000
DTSTAMP:20260421T125845
CREATED:20121219T111509Z
LAST-MODIFIED:20121219T111509Z
UID:2065-1356976800-1356994800@www.wiben.de
SUMMARY:Silvestermenü bei den Heinzelmännchen
DESCRIPTION:Weitere Infos unter: www.wiben.de/silvestermenu-bei-den-heinzelmannchen/
URL:https://www.wiben.de/event/silvestermenu-bei-den-heinzelmannchen/
LOCATION:Heinzelmännchen\, Obersalterberger Hof 1\, Marienthal\, 57632
GEO:50.7375242;7.6756696
X-APPLE-STRUCTURED-LOCATION;VALUE=URI;X-ADDRESS=Heinzelmännchen Obersalterberger Hof 1 Marienthal 57632;X-APPLE-RADIUS=500;X-TITLE=Obersalterberger Hof 1:geo:7.6756696,50.7375242
END:VEVENT
BEGIN:VEVENT
DTSTART;TZID=Europe/Helsinki:20121209T123000
DTEND;TZID=Europe/Helsinki:20121209T140000
DTSTAMP:20260421T125845
CREATED:20121026T111635Z
LAST-MODIFIED:20121026T111635Z
UID:1872-1355056200-1355061600@www.wiben.de
SUMMARY:Advents-Essen
DESCRIPTION:Advents-Essen jeweils am 02. und 09. Dezember 2012 ab 12.30 Uhr\n \nDas Menü: \nFeldsalat mit Walnüssen\, Speck und Croutons \nGepökelte Kalbshaxe mit Rahm-Sauerkraut und gebratenen Schupfnudeln \nBratapfel mit Vanillesosse \nPreis: 19\,50 Euro/Person \nKindermenü (bitte vorbestellen) \nHähnchenschnitzel mit Pasta und Tomatensugo \n  \nWir freuen uns auf Ihren Besuch und bitten um Reservierung unter:\nMail / 02662-5079571 oder \nMail / 02682-67667
URL:https://www.wiben.de/event/1871-2/2012-12-09/
CATEGORIES:Spass und Freude
END:VEVENT
BEGIN:VEVENT
DTSTART;TZID=Europe/Helsinki:20121124T190000
DTEND;TZID=Europe/Helsinki:20121124T230000
DTSTAMP:20260421T125845
CREATED:20121111T154511Z
LAST-MODIFIED:20121111T154511Z
UID:1998-1353783600-1353798000@www.wiben.de
SUMMARY:ADVENTS-ESSEN UND MENÜABEND
DESCRIPTION:
URL:https://www.wiben.de/event/advents-essen-und-menuabend/
LOCATION:Heinzelmännchen\, Obersalterberger Hof 1\, Marienthal\, 57632
CATEGORIES:Spass und Freude
GEO:50.7375242;7.6756696
X-APPLE-STRUCTURED-LOCATION;VALUE=URI;X-ADDRESS=Heinzelmännchen Obersalterberger Hof 1 Marienthal 57632;X-APPLE-RADIUS=500;X-TITLE=Obersalterberger Hof 1:geo:7.6756696,50.7375242
END:VEVENT
END:VCALENDAR