BEGIN:VCALENDAR
VERSION:2.0
PRODID:-//WIBeN e.V. - ECPv5.15.0.1//NONSGML v1.0//EN
CALSCALE:GREGORIAN
METHOD:PUBLISH
X-WR-CALNAME:WIBeN e.V.
X-ORIGINAL-URL:https://www.wiben.de
X-WR-CALDESC:Events for WIBeN e.V.
REFRESH-INTERVAL;VALUE=DURATION:PT1H
X-Robots-Tag:noindex
X-PUBLISHED-TTL:PT1H
BEGIN:VTIMEZONE
TZID:Europe/Helsinki
BEGIN:DAYLIGHT
TZOFFSETFROM:+0200
TZOFFSETTO:+0300
TZNAME:EEST
DTSTART:20120325T010000
END:DAYLIGHT
BEGIN:STANDARD
TZOFFSETFROM:+0300
TZOFFSETTO:+0200
TZNAME:EET
DTSTART:20121028T010000
END:STANDARD
BEGIN:DAYLIGHT
TZOFFSETFROM:+0200
TZOFFSETTO:+0300
TZNAME:EEST
DTSTART:20130331T010000
END:DAYLIGHT
BEGIN:STANDARD
TZOFFSETFROM:+0300
TZOFFSETTO:+0200
TZNAME:EET
DTSTART:20131027T010000
END:STANDARD
BEGIN:DAYLIGHT
TZOFFSETFROM:+0200
TZOFFSETTO:+0300
TZNAME:EEST
DTSTART:20140330T010000
END:DAYLIGHT
BEGIN:STANDARD
TZOFFSETFROM:+0300
TZOFFSETTO:+0200
TZNAME:EET
DTSTART:20141026T010000
END:STANDARD
BEGIN:DAYLIGHT
TZOFFSETFROM:+0200
TZOFFSETTO:+0300
TZNAME:EEST
DTSTART:20150329T010000
END:DAYLIGHT
BEGIN:STANDARD
TZOFFSETFROM:+0300
TZOFFSETTO:+0200
TZNAME:EET
DTSTART:20151025T010000
END:STANDARD
END:VTIMEZONE
BEGIN:VEVENT
DTSTART;TZID=Europe/Helsinki:20150311T173000
DTEND;TZID=Europe/Helsinki:20150311T200000
DTSTAMP:20260419T153325
CREATED:20150118T065822Z
LAST-MODIFIED:20150118T065822Z
UID:3705-1426095000-1426104000@www.wiben.de
SUMMARY:Vorstand
DESCRIPTION:
URL:https://www.wiben.de/event/vorstand-13/
LOCATION:Haus Felsenkeller\, Heimstr. 4\, Altenkirchen\, 57610\, Deutschland
CATEGORIES:Vorstandssitzung
ORGANIZER;CN="WIBeN%20e.V.":MAILTO:geschaeftsstelle@wiben.de
END:VEVENT
BEGIN:VEVENT
DTSTART;TZID=Europe/Helsinki:20141112T190000
DTEND;TZID=Europe/Helsinki:20141112T200000
DTSTAMP:20260419T153325
CREATED:20141019T085219Z
LAST-MODIFIED:20141019T085219Z
UID:3589-1415818800-1415822400@www.wiben.de
SUMMARY:Vorstand
DESCRIPTION:
URL:https://www.wiben.de/event/vorstand-12/
LOCATION:Haus Felsenkeller\, Heimstr. 4\, Altenkirchen\, 57610\, Deutschland
CATEGORIES:Vorstandssitzung
ORGANIZER;CN="WIBeN%20e.V.":MAILTO:geschaeftsstelle@wiben.de
END:VEVENT
BEGIN:VEVENT
DTSTART;TZID=Europe/Helsinki:20141013T173000
DTEND;TZID=Europe/Helsinki:20141013T200000
DTSTAMP:20260419T153325
CREATED:20140918T051428Z
LAST-MODIFIED:20140918T051428Z
UID:3550-1413221400-1413230400@www.wiben.de
SUMMARY:Vorstand
DESCRIPTION:
URL:https://www.wiben.de/event/vorstand-11/
LOCATION:Haus Felsenkeller\, Heimstr. 4\, Altenkirchen\, 57610\, Deutschland
CATEGORIES:Vorstandssitzung
ORGANIZER;CN="WIBeN%20e.V.":MAILTO:geschaeftsstelle@wiben.de
END:VEVENT
BEGIN:VEVENT
DTSTART;TZID=Europe/Helsinki:20140908T180000
DTEND;TZID=Europe/Helsinki:20140908T210000
DTSTAMP:20260419T153325
CREATED:20140730T195413Z
LAST-MODIFIED:20140730T195413Z
UID:3515-1410199200-1410210000@www.wiben.de
SUMMARY:Vorstand
DESCRIPTION:
URL:https://www.wiben.de/event/vorstand-10/
LOCATION:Haus Felsenkeller\, Heimstr. 4\, Altenkirchen\, 57610\, Deutschland
CATEGORIES:Vorstandssitzung
ORGANIZER;CN="WIBeN%20e.V.":MAILTO:geschaeftsstelle@wiben.de
END:VEVENT
BEGIN:VEVENT
DTSTART;TZID=Europe/Helsinki:20140616T180000
DTEND;TZID=Europe/Helsinki:20140616T210000
DTSTAMP:20260419T153325
CREATED:20140517T154529Z
LAST-MODIFIED:20140517T154529Z
UID:3473-1402941600-1402952400@www.wiben.de
SUMMARY:Vorstand
DESCRIPTION:
URL:https://www.wiben.de/event/vorstand-9/
LOCATION:Haus Felsenkeller\, Heimstr. 4\, Altenkirchen\, 57610\, Deutschland
CATEGORIES:Vorstandssitzung
ORGANIZER;CN="WIBeN%20e.V.":MAILTO:geschaeftsstelle@wiben.de
END:VEVENT
BEGIN:VEVENT
DTSTART;TZID=Europe/Helsinki:20140514T200000
DTEND;TZID=Europe/Helsinki:20140514T220000
DTSTAMP:20260419T153325
CREATED:20140507T165443Z
LAST-MODIFIED:20140507T165443Z
UID:3461-1400097600-1400104800@www.wiben.de
SUMMARY:WIBeN-Stammtisch
DESCRIPTION:Liebe WIBeNs \nAm Mittwoch\, den 14.5. findet der WIBeN-Stammtisch wie gewohnt um 20.00 Uhr statt. \nNach unserer Umgestaltung  der Stammtischplanung ist dies nun der 1. „reguläre“ Stammtisch\, der in diesem Rahmen stattfindet. \nDer Stammtisch wird bei der Neuen Arbeit e.V. stattfinden – Siegener Straße 23\, Haupteingang – 1. Etage im BVB Schulungsraum Lager/Handel. \nUnser WIBeN-Mitglied\, die Neue Arbeit um Steffi Schneider (Geschäftsführerin)\, Judith Schnell\, ggf. Mitglieder des Vorstands und des Kollegiums möchte uns anderen WIBeNs die Entwicklung und Veränderungen in den letzten 12 Monaten (nach dem Tod von Bernd Schuscheng) und Aktuelles der Neuen Arbeit zeigen und allgemein über ihre Arbeit erzählen. \nEs wird Getränke und einen kleinen Imbiss aus der Lernküche geben\, eine „Sammel-Kaffee-Kasse“ wird bereitstehen.\nSteffi Schneider freut sich sehr auf die neue Erfahrung\, die sie mit WIBeN machen  wird und wir hoffen gemeinsam auf viele Besucher. \nViele Grüße \nAnna Arwen Schochow\nGeschäftsstelle WIBeN e.V.\nWesterwälder Initiativen- und Betriebe-Netz e.V. \nHaus Felsenkeller \nHeimstraße 4 \n57610 Altenkirchen \nTel: 02686/4991143 \nHandy: 0176/20651100 \n 
URL:https://www.wiben.de/event/wiben-stammtisch-3/
LOCATION:Neue Arbeit e.V.\, Siegener Str. 23\, Altenkirchen\, 57610\, Deutschland
CATEGORIES:Stammtisch
ORGANIZER;CN="WIBeN%20e.V.":MAILTO:geschaeftsstelle@wiben.de
END:VEVENT
BEGIN:VEVENT
DTSTART;TZID=Europe/Helsinki:20140505T180000
DTEND;TZID=Europe/Helsinki:20140505T200000
DTSTAMP:20260419T153325
CREATED:20140505T152916Z
LAST-MODIFIED:20140505T152916Z
UID:3452-1399312800-1399320000@www.wiben.de
SUMMARY:Vorstand
DESCRIPTION:
URL:https://www.wiben.de/event/vorstand-8/
LOCATION:Haus Felsenkeller\, Heimstr. 4\, Altenkirchen\, 57610\, Deutschland
CATEGORIES:Vorstandssitzung
ORGANIZER;CN="WIBeN%20e.V.":MAILTO:geschaeftsstelle@wiben.de
END:VEVENT
BEGIN:VEVENT
DTSTART;TZID=Europe/Helsinki:20140329T150000
DTEND;TZID=Europe/Helsinki:20140329T190000
DTSTAMP:20260419T153325
CREATED:20140112T184024Z
LAST-MODIFIED:20140112T184024Z
UID:3246-1396105200-1396119600@www.wiben.de
SUMMARY:WIBeN Mitgliederversammlung
DESCRIPTION:
URL:https://www.wiben.de/event/wiben-mitgliederversammlung-2/
LOCATION:Rotes Haus\, Bahnhofstraße\, Seelbach (Westerwald)\, Ein Land auswählen:
ORGANIZER;CN="WIBeN%20e.V.":MAILTO:geschaeftsstelle@wiben.de
END:VEVENT
BEGIN:VEVENT
DTSTART;TZID=Europe/Helsinki:20140217T170000
DTEND;TZID=Europe/Helsinki:20140217T200000
DTSTAMP:20260419T153325
CREATED:20140116T191757Z
LAST-MODIFIED:20140116T191757Z
UID:3269-1392656400-1392667200@www.wiben.de
SUMMARY:Vorstand
DESCRIPTION:
URL:https://www.wiben.de/event/vorstand-7/
LOCATION:Haus Felsenkeller\, Heimstr. 4\, Altenkirchen\, 57610\, Deutschland
CATEGORIES:Vorstandssitzung
ORGANIZER;CN="WIBeN%20e.V.":MAILTO:geschaeftsstelle@wiben.de
END:VEVENT
BEGIN:VEVENT
DTSTART;TZID=Europe/Helsinki:20140207T170000
DTEND;TZID=Europe/Helsinki:20140209T150000
DTSTAMP:20260419T153325
CREATED:20131016T181700Z
LAST-MODIFIED:20131016T181700Z
UID:3205-1391792400-1391958000@www.wiben.de
SUMMARY:WIBeN Wochenende 2014
DESCRIPTION:
URL:https://www.wiben.de/event/wiben-wochenende-2014/
LOCATION:Tagungshaus Brückenmühle\, Roes\, 56754
CATEGORIES:Spass und Freude,WIBeN Wochenende
ORGANIZER;CN="WIBeN%20e.V.":MAILTO:geschaeftsstelle@wiben.de
END:VEVENT
BEGIN:VEVENT
DTSTART;TZID=Europe/Helsinki:20140108T183000
DTEND;TZID=Europe/Helsinki:20140108T200000
DTSTAMP:20260419T153325
CREATED:20131211T214951Z
LAST-MODIFIED:20131211T214951Z
UID:3229-1389205800-1389211200@www.wiben.de
SUMMARY:Vorstand
DESCRIPTION:
URL:https://www.wiben.de/event/vorstand-6/
LOCATION:Haus Felsenkeller\, Heimstr. 4\, Altenkirchen\, 57610\, Deutschland
CATEGORIES:Vorstandssitzung
ORGANIZER;CN="WIBeN%20e.V.":MAILTO:geschaeftsstelle@wiben.de
END:VEVENT
BEGIN:VEVENT
DTSTART;TZID=Europe/Helsinki:20131211T200000
DTEND;TZID=Europe/Helsinki:20131211T220000
DTSTAMP:20260419T153325
CREATED:20131101T181112Z
LAST-MODIFIED:20131101T181238Z
UID:3212-1386792000-1386799200@www.wiben.de
SUMMARY:WIBeN Stammtisch "Vorbereitung WIBeN Wochenende"
DESCRIPTION:Vorbereitung des kommenden WIBeN Wochenendes in der Brückenmühle
URL:https://www.wiben.de/event/wiben-stammtisch-2/
LOCATION:Haus Felsenkeller\, Heimstr. 4\, Altenkirchen\, 57610\, Deutschland
CATEGORIES:Stammtisch
ORGANIZER;CN="WIBeN%20e.V.":MAILTO:geschaeftsstelle@wiben.de
END:VEVENT
BEGIN:VEVENT
DTSTART;TZID=Europe/Helsinki:20131211T183000
DTEND;TZID=Europe/Helsinki:20131211T200000
DTSTAMP:20260419T153325
CREATED:20131112T171128Z
LAST-MODIFIED:20131112T171128Z
UID:3217-1386786600-1386792000@www.wiben.de
SUMMARY:Vorstand
DESCRIPTION:
URL:https://www.wiben.de/event/vorstand-5/
LOCATION:Haus Felsenkeller\, Heimstr. 4\, Altenkirchen\, 57610\, Deutschland
CATEGORIES:Vorstandssitzung
ORGANIZER;CN="WIBeN%20e.V.":MAILTO:geschaeftsstelle@wiben.de
END:VEVENT
BEGIN:VEVENT
DTSTART;TZID=Europe/Helsinki:20131113T200000
DTEND;TZID=Europe/Helsinki:20131113T220000
DTSTAMP:20260419T153325
CREATED:20131101T180538Z
LAST-MODIFIED:20131101T180538Z
UID:3210-1384372800-1384380000@www.wiben.de
SUMMARY:WIBeN Stammtisch "Wie wollen wir leben im Alter "
DESCRIPTION:Das erste Treffen zu diesem Thema ist lange her – besichtigt haben\nwir leider bisher keine Einrichtung.\nZur Info kommt ebenfalls keiner von dem Kölner Verein „Anders Leben im\nAlter“ worum ich mich bemüht hatte. Derzeit bin ich noch dabei jemand\neinzuladen\, die uns zu dem Generationenwohnprojekt was in Weyerbusch\ngeplant ist was erzählen könnte. Aber wir telefonieren immer aneinander\nvorbei…..\nIch hoffe es klappt noch. Ansonsten habe ich – vielleicht ja auch noch\njemand anderes – verschiedenes Material gesammelt über unterschiedliche\nWohnformen. Also wir treffen uns mit allen Interessierten in jedem Fall\nam Mittwoch den 13.11. in der Jugendkunstschule – können sie bei der\nGelegenheit gleich mal kennenlernen.\nwir – die Arbeitsgruppe – freuen uns auf zahlreiche TeilnehmerInnen. \nIn diesem Sinn\nHerzlichen Gruß\nMargret
URL:https://www.wiben.de/event/wiben-stammtisch-wie-wollen-wir-leben-im-alter/
LOCATION:Jugendkunstschule\, Koblenzer Str. 5\, Altenkirchen\, 57610\, Deutschland
CATEGORIES:Stammtisch
ORGANIZER;CN="WIBeN%20e.V.":MAILTO:geschaeftsstelle@wiben.de
GEO:50.685708;7.6414305
X-APPLE-STRUCTURED-LOCATION;VALUE=URI;X-ADDRESS=Jugendkunstschule Koblenzer Str. 5 Altenkirchen 57610 Deutschland;X-APPLE-RADIUS=500;X-TITLE=Koblenzer Str. 5:geo:7.6414305,50.685708
END:VEVENT
BEGIN:VEVENT
DTSTART;TZID=Europe/Helsinki:20131106T183000
DTEND;TZID=Europe/Helsinki:20131106T203000
DTSTAMP:20260419T153325
CREATED:20131016T181032Z
LAST-MODIFIED:20131016T181032Z
UID:3204-1383762600-1383769800@www.wiben.de
SUMMARY:Vorstand
DESCRIPTION:
URL:https://www.wiben.de/event/vorstand-4/
LOCATION:Haus Felsenkeller\, Heimstr. 4\, Altenkirchen\, 57610\, Deutschland
CATEGORIES:Vorstandssitzung
ORGANIZER;CN="WIBeN%20e.V.":MAILTO:geschaeftsstelle@wiben.de
END:VEVENT
BEGIN:VEVENT
DTSTART;TZID=Europe/Helsinki:20131009T180000
DTEND;TZID=Europe/Helsinki:20131009T200000
DTSTAMP:20260419T153325
CREATED:20130904T163329Z
LAST-MODIFIED:20130904T163329Z
UID:3186-1381341600-1381348800@www.wiben.de
SUMMARY:Vorstandssitzung
DESCRIPTION:
URL:https://www.wiben.de/event/vorstandssitzung-6/
LOCATION:Haus Felsenkeller\, Heimstr. 4\, Altenkirchen\, 57610\, Deutschland
CATEGORIES:Vorstandssitzung
ORGANIZER;CN="WIBeN%20e.V.":MAILTO:geschaeftsstelle@wiben.de
END:VEVENT
BEGIN:VEVENT
DTSTART;TZID=Europe/Helsinki:20130821T190000
DTEND;TZID=Europe/Helsinki:20130821T210000
DTSTAMP:20260419T153325
CREATED:20130714T100249Z
LAST-MODIFIED:20130714T100249Z
UID:3117-1377111600-1377118800@www.wiben.de
SUMMARY:Vorstand
DESCRIPTION:
URL:https://www.wiben.de/event/vorstand-3/
LOCATION:Haus Felsenkeller\, Heimstr. 4\, Altenkirchen\, 57610\, Deutschland
CATEGORIES:Vorstandssitzung
ORGANIZER;CN="WIBeN%20e.V.":MAILTO:geschaeftsstelle@wiben.de
END:VEVENT
BEGIN:VEVENT
DTSTART;TZID=Europe/Helsinki:20130710T173000
DTEND;TZID=Europe/Helsinki:20130710T200000
DTSTAMP:20260419T153325
CREATED:20130620T042903Z
LAST-MODIFIED:20130620T042903Z
UID:3085-1373477400-1373486400@www.wiben.de
SUMMARY:Vorstandssitzung
DESCRIPTION:
URL:https://www.wiben.de/event/vorstandssitzung-5/
LOCATION:Haus Felsenkeller\, Heimstr. 4\, Altenkirchen\, 57610\, Deutschland
CATEGORIES:Vorstandssitzung
ORGANIZER;CN="WIBeN%20e.V.":MAILTO:geschaeftsstelle@wiben.de
END:VEVENT
BEGIN:VEVENT
DTSTART;TZID=Europe/Helsinki:20130612T200000
DTEND;TZID=Europe/Helsinki:20130612T220000
DTSTAMP:20260419T153325
CREATED:20130606T045018Z
LAST-MODIFIED:20130606T045018Z
UID:2989-1371067200-1371074400@www.wiben.de
SUMMARY:WIBeN Stammtisch
DESCRIPTION:Liebe WIBeNs und Freunde \n Am 12.06.2013 findet der  5.WIBeN-Stammtisch in diesem Jahr statt. \nThema: Wie wollen wir im Alter leben ? \nDer Stammtisch findet zu diesem auf dem WIBeN-Wochenende im Februar erstmalig diskutierten Thema statt. Auch die WIBeNs werden älter und machen sich über Ihre Wohnbedürfnisse nach dem beruflichen Lebensweg Gedanken und wollen dies an diesem Abend weiterdenken\, vertiefen und konkretisieren. \nDazu treffen wir uns im Haus von Ralf Weber\, der aktuell sein Haus verkauft hat und mit den Käufern weiter dort wohnen wird. Wir wollen uns dort umsehen\, die Möglichkeiten dieses Ortes erkunden\, Erfahrungen mit gelebten Wohnprojekten austauschen und die Möglichkeiten eines gemeinsamen WIBeN-Alterswohnprojektes erörtern. \nWir freuen uns über rege Teilnahme und spannenden Austausch. \nMittwoch 12. Juni 2013  20.00 – 22.00 Uhr  \nbei  Ralf Weber\,  Zum Johannistal 3\, 57610 Altenkirchen  \n\nMit freundlichen Grüßen\nGerald
URL:https://www.wiben.de/event/wiben-stammtisch/
LOCATION:Ralf Weber\, Zum Johannistal 3\, Altenkirchen\, 57610\, Deutschland
CATEGORIES:Stammtisch
ORGANIZER;CN="WIBeN%20e.V.":MAILTO:geschaeftsstelle@wiben.de
END:VEVENT
BEGIN:VEVENT
DTSTART;TZID=Europe/Helsinki:20130612T173000
DTEND;TZID=Europe/Helsinki:20130612T194500
DTSTAMP:20260419T153325
CREATED:20130505T041500Z
LAST-MODIFIED:20130505T041500Z
UID:2905-1371058200-1371066300@www.wiben.de
SUMMARY:Vorstand
DESCRIPTION:
URL:https://www.wiben.de/event/vorstand-2/
LOCATION:Haus Felsenkeller\, Heimstr. 4\, Altenkirchen\, 57610\, Deutschland
CATEGORIES:Vorstandssitzung
ORGANIZER;CN="WIBeN%20e.V.":MAILTO:geschaeftsstelle@wiben.de
END:VEVENT
BEGIN:VEVENT
DTSTART;TZID=Europe/Helsinki:20130301T180000
DTEND;TZID=Europe/Helsinki:20130301T210000
DTSTAMP:20260419T153325
CREATED:20130125T200535Z
LAST-MODIFIED:20130125T200535Z
UID:2202-1362160800-1362171600@www.wiben.de
SUMMARY:Vorstandssitzung
DESCRIPTION:
URL:https://www.wiben.de/event/vorstandssitzung-4/
LOCATION:Haus Felsenkeller\, Heimstr. 4\, Altenkirchen\, 57610\, Deutschland
CATEGORIES:Vorstandssitzung
ORGANIZER;CN="WIBeN%20e.V.":MAILTO:geschaeftsstelle@wiben.de
END:VEVENT
BEGIN:VEVENT
DTSTART;TZID=Europe/Helsinki:20130215T170000
DTEND;TZID=Europe/Helsinki:20130217T140000
DTSTAMP:20260419T153325
CREATED:20121210T191455Z
LAST-MODIFIED:20121210T191455Z
UID:2030-1360947600-1361109600@www.wiben.de
SUMMARY:WIBeN Wochenende
DESCRIPTION:weitere Infos folgen.. bald
URL:https://www.wiben.de/event/wiben-wochenende/
LOCATION:Tagungshaus Brückenmühle\, Roes\, 56754
CATEGORIES:Spass und Freude,WIBeN Wochenende
ORGANIZER;CN="WIBeN%20e.V.":MAILTO:geschaeftsstelle@wiben.de
END:VEVENT
BEGIN:VEVENT
DTSTART;TZID=Europe/Helsinki:20130102T180000
DTEND;TZID=Europe/Helsinki:20130102T210000
DTSTAMP:20260419T153325
CREATED:20121217T211944Z
LAST-MODIFIED:20121217T211944Z
UID:2049-1357149600-1357160400@www.wiben.de
SUMMARY:Vorstandssitzung
DESCRIPTION:TOP: \nWIBeN Wochenende\nHaushalt 2012\nHaushaltsplan 2013\nu.a.
URL:https://www.wiben.de/event/vorstandssitzung-3/
LOCATION:Haus Felsenkeller\, Heimstr. 4\, Altenkirchen\, 57610\, Deutschland
CATEGORIES:Vorstandssitzung
ORGANIZER;CN="WIBeN%20e.V.":MAILTO:geschaeftsstelle@wiben.de
END:VEVENT
BEGIN:VEVENT
DTSTART;TZID=Europe/Helsinki:20121212T200000
DTEND;TZID=Europe/Helsinki:20121212T220000
DTSTAMP:20260419T153325
CREATED:20121203T183804Z
LAST-MODIFIED:20121203T183804Z
UID:2024-1355342400-1355349600@www.wiben.de
SUMMARY:Stammtisch
DESCRIPTION:zum letzten Stammtisch dieses Jahres lädt der Vorstand ein:\nThema: inhaltliche Gestaltung und Ablauf des WIBeN-Wochenendes im Februar 2013\nEure Anregungen sind gefragt! Wir wünschen uns kreative Ideen\, Vielfalt und rege Beteiligung – alles ist möglich…\nTagungshaus: voraussichtlich Brückenmühle\, 56754 Roes
URL:https://www.wiben.de/event/stammtisch/
LOCATION:Haus Felsenkeller\, Heimstr. 4\, Altenkirchen\, 57610\, Deutschland
CATEGORIES:Stammtisch
ORGANIZER;CN="WIBeN%20e.V.":MAILTO:geschaeftsstelle@wiben.de
END:VEVENT
BEGIN:VEVENT
DTSTART;TZID=Europe/Helsinki:20121106T180000
DTEND;TZID=Europe/Helsinki:20121106T210000
DTSTAMP:20260419T153325
CREATED:20121013T165551Z
LAST-MODIFIED:20121013T165808Z
UID:1801-1352224800-1352235600@www.wiben.de
SUMMARY:Vorstandssitzung
DESCRIPTION:
URL:https://www.wiben.de/event/vorstand/
LOCATION:Haus Felsenkeller\, Heimstr. 4\, Altenkirchen\, 57610\, Deutschland
CATEGORIES:Vorstandssitzung
ORGANIZER;CN="WIBeN%20e.V.":MAILTO:geschaeftsstelle@wiben.de
END:VEVENT
BEGIN:VEVENT
DTSTART;TZID=Europe/Helsinki:20121014T170000
DTEND;TZID=Europe/Helsinki:20121014T190000
DTSTAMP:20260419T153325
CREATED:20121009T085800Z
LAST-MODIFIED:20121012T135204Z
UID:1762-1350234000-1350241200@www.wiben.de
SUMMARY:FWF Vergabesitzung
DESCRIPTION:Am Sonntag den 14.10.12 findet im „Roten Haus“ in Seelbach um 17:00 Uhr eine Vergabesitzung des Feuerwehrfonds statt. Näheres per Mail
URL:https://www.wiben.de/event/fwf-vergabesitzung/
LOCATION:Rotes Haus\, Bahnhofstraße\, Seelbach (Westerwald)\, Ein Land auswählen:
CATEGORIES:FWF intern
ORGANIZER;CN="WIBeN%20e.V.":MAILTO:geschaeftsstelle@wiben.de
END:VEVENT
BEGIN:VEVENT
DTSTART;TZID=Europe/Helsinki:20120808T200000
DTEND;TZID=Europe/Helsinki:20120808T230000
DTSTAMP:20260419T153325
CREATED:20120802T080339Z
LAST-MODIFIED:20120802T081102Z
UID:1511-1344456000-1344466800@www.wiben.de
SUMMARY:Stammtisch
DESCRIPTION:
URL:https://www.wiben.de/event/stammtisch-2/
LOCATION:Impuls\, Brucherstr. 3\, Oberlahr\, 57641\, Deutschland
CATEGORIES:Stammtisch
ORGANIZER;CN="WIBeN%20e.V.":MAILTO:geschaeftsstelle@wiben.de
GEO:50.62126;7.53082
X-APPLE-STRUCTURED-LOCATION;VALUE=URI;X-ADDRESS=Impuls Brucherstr. 3 Oberlahr 57641 Deutschland;X-APPLE-RADIUS=500;X-TITLE=Brucherstr. 3:geo:7.53082,50.62126
END:VEVENT
END:VCALENDAR