BEGIN:VCALENDAR
VERSION:2.0
PRODID:-//WIBeN e.V. - ECPv5.15.0.1//NONSGML v1.0//EN
CALSCALE:GREGORIAN
METHOD:PUBLISH
X-WR-CALNAME:WIBeN e.V.
X-ORIGINAL-URL:https://www.wiben.de
X-WR-CALDESC:Events for WIBeN e.V.
REFRESH-INTERVAL;VALUE=DURATION:PT1H
X-Robots-Tag:noindex
X-PUBLISHED-TTL:PT1H
BEGIN:VTIMEZONE
TZID:Europe/Helsinki
BEGIN:DAYLIGHT
TZOFFSETFROM:+0200
TZOFFSETTO:+0300
TZNAME:EEST
DTSTART:20130331T010000
END:DAYLIGHT
BEGIN:STANDARD
TZOFFSETFROM:+0300
TZOFFSETTO:+0200
TZNAME:EET
DTSTART:20131027T010000
END:STANDARD
END:VTIMEZONE
BEGIN:VEVENT
DTSTART;TZID=Europe/Helsinki:20130602T140000
DTEND;TZID=Europe/Helsinki:20130602T170000
DTSTAMP:20260419T150445
CREATED:20130531T092606Z
LAST-MODIFIED:20130531T092730Z
UID:2926-1370181600-1370192400@www.wiben.de
SUMMARY:Film: "More than honey"
DESCRIPTION:Mehr als Honig steht auch auf dem Spiel\, wenn mit der Biene ein wichtiger Teil unseres Ökosystems in Gefahr gerät. Bienen liefern nicht bloß Honig\, sie bestäuben vor allem Blüten und sorgen so für das Überleben vieler Pflanzenarten. In letzter Zeit setzen die Ausbreitung von Monokulturen und der vermehrte Einsatz von Pestiziden den Bienen zusehends zu. \n\nAm Sonntag\, den 02. Juni 2013 um 14.00 Uhr zeigt Sabine Bätzing- Lichtenthäler im Haus Felsenkeller in Altenkirchen\, Heimstraße 4\, die preisgekrönte Dokumentation „More than honey“. \n„Der Film ist mehr als eindrucksvoll und sollte uns sehr zum Nachdenken anregen. Inhaltlich wird die Veranstaltung begleitet von Herrn Walter Schmal\, dem 2. Vorsitzenden des Imkerverbandes Rheinland e.V. \nDie Besucher können Fragen stellen\, aus ihren Erfahrungen berichten und miteinander ins Gespräch kommen. Jedermann ist herzlich willkommen. Eine Anmeldung ist nicht erforderlich. Der Eintritt ist frei.
URL:https://www.wiben.de/event/film-more-than-honey/
LOCATION:Haus Felsenkeller\, Heimstr. 4\, Altenkirchen\, 57610\, Deutschland
END:VEVENT
BEGIN:VEVENT
DTSTART;TZID=Europe/Helsinki:20130602T190000
DTEND;TZID=Europe/Helsinki:20130602T210000
DTSTAMP:20260419T150445
CREATED:20130514T090333Z
LAST-MODIFIED:20130514T090333Z
UID:2916-1370199600-1370206800@www.wiben.de
SUMMARY:Film "In Transition 1.0" mit Info und Diskussion in Borod
DESCRIPTION:Mit Witz  und viel Information erzählt der Film vom Klimawandel und vom Ende des billigen Erdöls – und wie einfach es sich anfühlen kann\, in Nachbarschaften\, Städten und Regionen demgegenüber einfach zusammen loszulegen\, Visionen entstehen zu lassen\, wie wir in 20 Jahren leben wollen\, und Schritte zur Verwirklichung dieser Visionen zu tun. Die Beispiele von Aktivitäten in Totnes\, der ersten Town in Transition\, und vielen weiteren Initiativen in Großbritannien und der ganzen Welt machen Mut und inspirieren zum selber machen! \nGezeigt wird der der Film Sonntag\, 2. Juni um 19:00 Uhr im Institut für Lebens- und Bewegungskunst\, Hauptstraße 41\, 57614 Borod/Westerwald. Wer interessiert ist an der Gründung einer Transition-Gruppe für die Region Altenkirchen\, findet im Anschluss an den Film Gleichgesinnte.
URL:https://www.wiben.de/event/film-in-transition-1-0-mit-info-und-diskussion-in-borod/
LOCATION:Institut für Lebens- und Bewegungskunst\, Hauptstraße 41\, Borod\, 57614 
END:VEVENT
END:VCALENDAR